Workbook
Name 基本項目: #REF!
Name 撮影運航速度: #REF!
Name 撮影速度: #REF!
Name 上昇下降: #REF!
Name 台帳地目のカウントリスト: #REF!
Name 非課税地集計: #REF!
Name 非課税地集計_sort: #REF!

Sheet 設計鑑 
A2: 令和8年度
A3: 設 計 書
A8: 場 所 | D8: 貝塚市全域
A9: 事 業 名
A10: 業 務 名 | D10: =内訳書!A3 -> 令和8年度 貝塚市航空写真撮影等業務
A11: 設 計 大 要
A12: 貝 塚 市

Sheet 内訳書
A1: 内 訳 書
A3: 令和8年度 貝塚市航空写真撮影等業務
A4: 費 目 | B4: 工 種 | C4: 種 別 | D4: 細 別 | E4: 規 格 | F4: 単位 | G4: 数 量 | H4: 単 価 | I4: 金 額 | J4: 摘 要
A5: 直接費 | I5: =+I6+I15 -> 0
B6: 【デジタル空中写真撮影】 | I6: =SUM(I7:I13) -> 0
B7: 撮影計画 | F7: ㎢ | G7: 43.93 | H7: =代価表!Q6 -> 0 | I7: =INT(G7*H7) -> 0 | J7: 第 | K7: 1 | L7: 号 代価表
B8: 総運航 | F8: 時間 | H8: =代価表!Q8 -> 0 | I8: =INT(G8*H8) -> 0 | J8: 第 | K8: 2 | L8: 号 代価表
B9: 撮影 | F9: 時間 | H9: =代価表!Q10 -> 0 | I9: =INT(G9*H9) -> 0 | J9: 第 | K9: 3 | L9: 号 代価表
B10: 滞留 | F10: 日 | H10: =代価表!Q12 -> 0 | I10: =INT(G10*H10) -> 0 | J10: 第 | K10: 4 | L10: 号 代価表
B11: GNSS/IMU計算 | F11: 枚 | H11: =代価表!Q14 -> 0 | I11: =INT(G11*H11) -> 0 | J11: 第 | K11: 5 | L11: 号 代価表
B12: 数値写真作成 | F12: 枚 | H12: =代価表!Q16 -> 0 | I12: =INT(G12*H12) -> 0 | J12: 第 | K12: 6 | L12: 号 代価表
B13: 打合せ協議 | F13: 業務 | G13: 1 | H13: =代価表!Q18 -> 0 | I13: =INT(G13*H13) -> 0 | J13: 第 | K13: 7 | L13: 号 代価表
B15: 【写真地図（デジタルオルソ）作成】 | I15: =SUM(I16:I24) -> 0
B16: 作業計画 | F16: ㎢ | G16: 43.93 | H16: =代価表!Q20 -> 0 | I16: =INT(G16*H16) -> 0 | J16: 第 | K16: 8 | L16: 号 代価表
B17: 標定点測量 | F17: 点 | H17: =代価表!Q22 -> 0 | I17: =INT(G17*H17) -> 0 | J17: 第 | K17: 9 | L17: 号 代価表
B18: 同時調整 | F18: k㎡ | G18: 43.93 | H18: =代価表!Q24 -> 0 | I18: =INT(G18*H18) -> 0 | J18: 第 | K18: 10 | L18: 号 代価表
B19: 数値地形モデル作成 | F19: k㎡ | G19: =G18 -> 43.93 | H19: =代価表!Q26 -> 0 | I19: =INT(G19*H19) -> 0 | J19: 第 | K19: 11 | L19: 号 代価表
B20: 写真地図（デジタルオルソ）画像作成 | F20: k㎡ | G20: =G19 -> 43.93 | H20: =代価表!Q28 -> 0 | I20: =INT(G20*H20) -> 0 | J20: 第 | K20: 12 | L20: 号 代価表
B21: 陰影部除去画像作成 | F21: 枚 | H21: =代価表!Q30 -> 0 | I21: =INT(G21*H21) -> 0 | J21: 第 | K21: 13 | L21: 号 代価表
B22: 家屋異動判読 | F22: 式 | G22: 1 | H22: =代価表!Q32 -> 0 | I22: =INT(G22*H22) -> 0 | J22: 第 | K22: 14 | L22: 号 代価表
B23: 税務地図情報システムデータ作成 | F23: 式 | G23: 1 | H23: =代価表!Q34 -> 0 | I23: =INT(G23*H23) -> 0 | J23: 第 | K23: 15 | L23: 号 代価表
B24: 成果等整理 | F24: ㎢ | G24: 43.93 | H24: =代価表!Q36 -> 0 | I24: =INT(G24*H24) -> 0 | J24: 第 | K24: 16 | L24: 号 代価表
A27: 内 訳 書
A29: =A3 -> 令和8年度 貝塚市航空写真撮影等業務
A30: 費 目 | B30: 工 種 | C30: 種 別 | D30: 細 別 | E30: 規 格 | F30: 単位 | G30: 数 量 | H30: 単 価 | I30: 金 額 | J30: 摘 要
A43: 間接費
B44: 諸経費 | F44: 式 | G44: 1 | I44: =J44*I5 -> 0
A49: 合計 | I49: =I5+I44 -> 0
A50: 改め | I50: =ROUNDDOWN(I49,-4) -> 0
A51: 消費税 | B51: 0.1 | I51: =INT(I50*B51) -> 0
A52: 総計 | I52: =I50+I51 -> 0

Sheet 代価表
A2: 代 価 表
A3: 費 目 | B3: 単 位 | D3: 主任技師 | E3: 技師 | F3: 技師補 | G3: 助手 | H3: 操縦士 | I3: 整備士 | J3: 撮影士 | K3: 計(直接人件費) | L3: 機械経費 | M3: 通信運搬費 | N3: 材料費 | O3: 精度管理費 | P3: 計 | Q3: 単価 | R3: №
L4: 直人の% | M4: 直人の% | N4: 直人の% | O4: 直人の%
A5: =内訳書!B7 -> 撮影計画 | B5: 100 | C5: ㎢ | R5: 1
D6: =INT($D$4*D5) -> 0 | E6: =INT($E$4*E5) -> 0 | F6: =INT($F$4*F5) -> 0 | G6: =INT($G$4*G5) -> 0 | H6: =INT($H$4*H5) -> 0 | I6: =INT($I$4*I5) -> 0 | J6: =INT($J$4*J5) -> 0 | K6: =SUM(D6:J6) -> 0 | L6: =INT(K6*L5) -> 0 | M6: =INT(K6*M5) -> 0 | N6: =INT(K6*N5) -> 0 | O6: =INT((K6+L6)*O5) -> 0 | P6: =SUM(K6:N6) -> 0 | Q6: =INT(P6/B5) -> 0
A7: =内訳書!B8 -> 総運航 | B7: 1 | C7: 時間 | R7: 2
D8: =INT($D$4*D7) -> 0 | E8: =INT($E$4*E7) -> 0 | F8: =INT($F$4*F7) -> 0 | G8: =INT($G$4*G7) -> 0 | H8: =INT($H$4*H7) -> 0 | I8: =INT($I$4*I7) -> 0 | J8: =INT($J$4*J7) -> 0 | K8: =SUM(D8:J8) -> 0 | O8: =INT((K8+L8)*O7) -> 0 | P8: =SUM(K8:N8) -> 0 | Q8: =INT(P8/B7) -> 0
A9: =内訳書!B9 -> 撮影 | B9: 1 | C9: 時間 | R9: 3
H10: =INT($H$4*H9) -> 0 | I10: =INT($I$4*I9) -> 0 | J10: =INT($J$4*J9) -> 0 | K10: =SUM(D10:J10) -> 0 | O10: =INT((K10+L10)*O9) -> 0 | P10: =SUM(K10:N10) -> 0 | Q10: =INT(P10/B9) -> 0
A11: =内訳書!B10 -> 滞留 | B11: 1 | C11: 日 | R11: 4
D12: =INT($D$4*D11) -> 0 | E12: =INT($E$4*E11) -> 0 | F12: =INT($F$4*F11) -> 0 | G12: =INT($G$4*G11) -> 0 | H12: =INT($H$4*H11) -> 0 | I12: =INT($I$4*I11) -> 0 | J12: =INT($J$4*J11) -> 0 | K12: =SUM(D12:J12) -> 0 | L12: =INT(K12*L11) -> 0 | M12: =INT(K12*M11) -> 0 | N12: =INT(K12*N11) -> 0 | O12: =INT((K12+L12)*O11) -> 0 | P12: =SUM(K12:N12) -> 0 | Q12: =INT(P12/B11) -> 0
A13: =内訳書!B11 -> GNSS/IMU計算 | B13: 100 | C13: 枚 | R13: 5
D14: =INT($D$4*D13) -> 0 | E14: =INT($E$4*E13) -> 0 | F14: =INT($F$4*F13) -> 0 | G14: =INT($G$4*G13) -> 0 | H14: =INT($H$4*H13) -> 0 | I14: =INT($I$4*I13) -> 0 | J14: =INT($J$4*J13) -> 0 | K14: =SUM(D14:J14) -> 0 | L14: =INT(K14*L13) -> 0 | M14: =INT(K14*M13) -> 0 | N14: =INT(K14*N13) -> 0 | O14: =INT((K14+L14)*O13) -> 0 | P14: =SUM(K14:N14) -> 0 | Q14: =INT(P14/B13) -> 0
A15: =内訳書!B12 -> 数値写真作成 | B15: 100 | C15: 枚 | R15: 6
D16: =INT($D$4*D15) -> 0 | E16: =INT($E$4*E15) -> 0 | F16: =INT($F$4*F15) -> 0 | G16: =INT($G$4*G15) -> 0 | H16: =INT($H$4*H15) -> 0 | I16: =INT($I$4*I15) -> 0 | J16: =INT($J$4*J15) -> 0 | K16: =SUM(D16:J16) -> 0 | L16: =INT(K16*L15) -> 0 | M16: =INT(K16*M15) -> 0 | N16: =INT(K16*N15) -> 0 | O16: =INT((K16+L16)*O15) -> 0 | P16: =SUM(K16:N16) -> 0 | Q16: =INT(P16/B15) -> 0
A17: =内訳書!B13 -> 打合せ協議 | B17: 1 | C17: 業務 | R17: 7
D18: =INT($D$4*D17) -> 0 | E18: =INT($E$4*E17) -> 0 | F18: =INT($F$4*F17) -> 0 | G18: =INT($G$4*G17) -> 0 | H18: =INT($H$4*H17) -> 0 | I18: =INT($I$4*I17) -> 0 | J18: =INT($J$4*J17) -> 0 | K18: =SUM(D18:J18) -> 0 | L18: =INT(K18*L17) -> 0 | M18: =INT(K18*M17) -> 0 | N18: =INT(K18*N17) -> 0 | O18: =INT((K18+L18)*O17) -> 0 | P18: =SUM(K18:N18) -> 0 | Q18: =INT(P18/B17) -> 0
A19: =内訳書!B16 -> 作業計画 | B19: 1000 | C19: ㎢ | R19: 8
D20: =INT($D$4*D19) -> 0 | E20: =INT($E$4*E19) -> 0 | F20: =INT($F$4*F19) -> 0 | G20: =INT($G$4*G19) -> 0 | H20: =INT($H$4*H19) -> 0 | I20: =INT($I$4*I19) -> 0 | J20: =INT($J$4*J19) -> 0 | K20: =SUM(D20:J20) -> 0 | L20: =INT(K20*L19) -> 0 | M20: =INT(K20*M19) -> 0 | N20: =INT(K20*N19) -> 0 | O20: =INT((K20+L20)*O19) -> 0 | P20: =SUM(K20:N20) -> 0 | Q20: =INT(P20/B19) -> 0
A21: =内訳書!B17 -> 標定点測量 | B21: 5 | C21: 点 | R21: 9
D22: =INT($D$4*D21) -> 0 | E22: =INT($E$4*E21) -> 0 | F22: =INT($F$4*F21) -> 0 | G22: =INT($G$4*G21) -> 0 | H22: =INT($H$4*H21) -> 0 | I22: =INT($I$4*I21) -> 0 | J22: =INT($J$4*J21) -> 0 | K22: =SUM(D22:J22) -> 0 | L22: =INT(K22*L21) -> 0 | M22: =INT(K22*M21) -> 0 | N22: =INT(K22*N21) -> 0 | O22: =INT((K22+L22)*O21) -> 0 | P22: =SUM(K22:N22) -> 0 | Q22: =INT(P22/B21) -> 0
A23: =内訳書!B18 -> 同時調整 | B23: 100 | C23: ㎢ | R23: 10
D24: =INT($D$4*D23) -> 0 | E24: =INT($E$4*E23) -> 0 | F24: =INT($F$4*F23) -> 0 | G24: =INT($G$4*G23) -> 0 | H24: =INT($H$4*H23) -> 0 | I24: =INT($I$4*I23) -> 0 | J24: =INT($J$4*J23) -> 0 | K24: =SUM(D24:J24) -> 0 | L24: =INT(K24*L23) -> 0 | M24: =INT(K24*M23) -> 0 | N24: =INT(K24*N23) -> 0 | O24: =INT((K24+L24)*O23) -> 0 | P24: =SUM(K24:N24) -> 0 | Q24: =INT(P24/B23) -> 0
A25: =内訳書!B19 -> 数値地形モデル作成 | B25: 1000 | C25: ㎢ | R25: 11
D26: =INT($D$4*D25) -> 0 | E26: =INT($E$4*E25) -> 0 | F26: =INT($F$4*F25) -> 0 | G26: =INT($G$4*G25) -> 0 | H26: =INT($H$4*H25) -> 0 | I26: =INT($I$4*I25) -> 0 | J26: =INT($J$4*J25) -> 0 | K26: =SUM(D26:J26) -> 0 | L26: =INT(K26*L25) -> 0 | M26: =INT(K26*M25) -> 0 | N26: =INT(K26*N25) -> 0 | O26: =INT((K26+L26)*O25) -> 0 | P26: =SUM(K26:N26) -> 0 | Q26: =INT(P26/B25) -> 0
A27: =内訳書!B20 -> 写真地図（デジタルオルソ）画像作成 | B27: 1000 | C27: ㎢ | R27: 12
D28: =INT($D$4*D27) -> 0 | E28: =INT($E$4*E27) -> 0 | F28: =INT($F$4*F27) -> 0 | G28: =INT($G$4*G27) -> 0 | K28: =SUM(D28:G28) -> 0 | L28: =INT(K28*L27) -> 0 | M28: =INT(K28*M27) -> 0 | N28: =INT(K28*N27) -> 0 | O28: =INT((K28+L28)*O27) -> 0 | P28: =SUM(K28:N28) -> 0 | Q28: =INT(P28/B27) -> 0
A29: 陰影部除去画像作成 | B29: 100 | C29: 枚 | R29: 13
D30: =INT($D$4*D29) -> 0 | E30: =INT($E$4*E29) -> 0 | F30: =INT($F$4*F29) -> 0 | G30: =INT($G$4*G29) -> 0 | K30: =SUM(D30:G30) -> 0 | L30: =INT(K30*L29) -> 0 | M30: =INT(K30*M29) -> 0 | N30: =INT(K30*N29) -> 0 | O30: =INT((K30+L30)*O29) -> 0 | P30: =SUM(K30:N30) -> 0 | Q30: =INT(P30/B29) -> 0
A31: =内訳書!B22 -> 家屋異動判読 | B31: 1 | C31: 式 | R31: 14
D32: =INT($D$4*D31) -> 0 | E32: =INT($E$4*E31) -> 0 | F32: =INT($F$4*F31) -> 0 | G32: =INT($G$4*G31) -> 0 | K32: =SUM(D32:G32) -> 0 | L32: =INT(K32*L31) -> 0 | M32: =INT(K32*M31) -> 0 | N32: =INT(K32*N31) -> 0 | O32: =INT((K32+L32)*O31) -> 0 | P32: =SUM(K32:N32) -> 0 | Q32: =INT(P32/B31) -> 0
A33: =内訳書!B23 -> 税務地図情報システムデータ作成 | B33: 1 | C33: 式 | R33: 15
D34: =INT($D$4*D33) -> 0 | E34: =INT($E$4*E33) -> 0 | F34: =INT($F$4*F33) -> 0 | G34: =INT($G$4*G33) -> 0 | K34: =SUM(D34:G34) -> 0 | L34: =INT(K34*L33) -> 0 | M34: =INT(K34*M33) -> 0 | N34: =INT(K34*N33) -> 0 | O34: =INT((K34+L34)*O33) -> 0 | P34: =SUM(K34:N34) -> 0 | Q34: =INT(P34/B33) -> 0
A35: =内訳書!B24 -> 成果等整理 | B35: 1000 | C35: ㎢ | R35: 16
D36: =INT($D$4*D35) -> 0 | E36: =INT($E$4*E35) -> 0 | F36: =INT($F$4*F35) -> 0 | G36: =INT($G$4*G35) -> 0 | K36: =SUM(D36:G36) -> 0 | L36: =INT(K36*L35) -> 0 | M36: =INT(K36*M35) -> 0 | N36: =INT(K36*N35) -> 0 | O36: =INT((K36+L36)*O35) -> 0 | P36: =SUM(K36:N36) -> 0 | Q36: =INT(P36/B35) -> 0
A40: 経費名 | D40: 構成 | H40: 数量・単位 | J40: 単価 | L40: 金額 | N40: 備考
A41: 機械経費 | D41: 飛行機_単発 | H41: 1 | M41: =INT(H41*K41) -> 0
A42: 材料費 | D42: 航空ガソリン | H42: 60 | M42: =INT(H42*K42) -> 0
D43: 航空オイル | H43: 2.5 | M43: =INT(H43*K43) -> 0
A44: 機械経費 | D44: デジタル航空カメラ（複合ラインセンサー） | H44: 1 | M44: =INT(H44*K44) -> 0
...
